View In:
ArcGIS JavaScript
ArcGIS Online Map Viewer
ArcGIS Earth
Service Description: degrad_deforest_2019
Name: degrad_deforest_2019
Description:
Single Fused Map Cache: false
Extent:
XMin: -75.07903549002774
YMin: -10.854163914959363
XMax: -72.02566183930547
YMax: -7.033539180070621
Spatial Reference: 4326
(4326)
LatestVCSWkid(0)
Initial Extent:
XMin: -75.07903549002774
YMin: -10.854163914959363
XMax: -72.02566183930547
YMax: -7.033539180070621
Spatial Reference: 4326
(4326)
LatestVCSWkid(0)
Full Extent:
XMin: -75.07903549002774
YMin: -10.854163914959363
XMax: -72.02566183930547
YMax: -7.033539180070621
Spatial Reference: 4326
(4326)
LatestVCSWkid(0)
Pixel Size X: 2.694945852358574E-4
Pixel Size Y: 2.6949458523585685E-4
Band Count: 1
Pixel Type: F32
RasterFunction Infos: {"rasterFunctionInfos": [{
"name": "None",
"description": "",
"help": ""
}]}
Mensuration Capabilities: Basic
Inspection Capabilities:
Has Histograms: true
Has Colormap: false
Has Multi Dimensions : false
Rendering Rule:
Min Scale: 0
Max Scale: 0
Copyright Text:
Service Data Type: esriImageServiceDataTypeGeneric
Min Values: 0
Max Values: 10
Mean Values: 4.617102033921882
Standard Deviation Values: 4.611203068748897
Object ID Field:
Fields:
None
Default Mosaic Method: Center
Allowed Mosaic Methods:
SortField:
SortValue: null
Mosaic Operator: First
Default Compression Quality: 75
Default Resampling Method: Bilinear
Max Record Count: null
Max Image Height: 4100
Max Image Width: 15000
Max Download Image Count: null
Max Mosaic Image Count: null
Allow Raster Function: true
Allow Copy: true
Allow Analysis: true
Allow Compute TiePoints: false
Supports Statistics: false
Supports Advanced Queries: false
Use StandardizedQueries: true
Raster Type Infos:
Name: Raster Dataset
Description: Supports all ArcGIS Raster Datasets
Help:
Has Raster Attribute Table: false
Edit Fields Info: null
Ownership Based AccessControl For Rasters: null
Child Resources:
Info
Histograms
Statistics
Key Properties
Legend
Raster Function Infos
Supported Operations:
Export Image
Identify
Measure
Compute Histograms
Compute Statistics Histograms
Get Samples
Compute Class Statistics
Query Boundary
Compute Pixel Location
Compute Angles
Validate
Project