View In:
ArcGIS JavaScript
ArcGIS Online Map Viewer
ArcGIS Earth
Service Description: NASASERVIR/LST_mean_2020_roadsAOI_clip
Name: NASASERVIR/LST_mean_2020_roadsAOI_clip
Description:
Single Fused Map Cache: false
Extent:
XMin: -75.07916666666661
YMin: -10.816666666666618
XMax: -72.02560272216799
YMax: -7.033333333333279
Spatial Reference: 4326
(4326)
LatestVCSWkid(0)
Initial Extent:
XMin: -75.07916666666661
YMin: -10.816666666666618
XMax: -72.02560272216799
YMax: -7.033333333333279
Spatial Reference: 4326
(4326)
LatestVCSWkid(0)
Full Extent:
XMin: -75.07916666666661
YMin: -10.816666666666618
XMax: -72.02560272216799
YMax: -7.033333333333279
Spatial Reference: 4326
(4326)
LatestVCSWkid(0)
Pixel Size X: 0.008981070424995942
Pixel Size Y: 0.008965244865718813
Band Count: 1
Pixel Type: F64
RasterFunction Infos: {"rasterFunctionInfos": [{
"name": "None",
"description": "",
"help": ""
}]}
Mensuration Capabilities: Basic
Inspection Capabilities:
Has Histograms: true
Has Colormap: false
Has Multi Dimensions : false
Rendering Rule:
Min Scale: 0
Max Scale: 0
Copyright Text:
Service Data Type: esriImageServiceDataTypeGeneric
Min Values: 25.49363636363637
Max Values: 39.78055555555562
Mean Values: 28.734526865084728
Standard Deviation Values: 0.6977557400403837
Object ID Field:
Fields:
None
Default Mosaic Method: Center
Allowed Mosaic Methods:
SortField:
SortValue: null
Mosaic Operator: First
Default Compression Quality: 75
Default Resampling Method: Bilinear
Max Record Count: null
Max Image Height: 4100
Max Image Width: 15000
Max Download Image Count: null
Max Mosaic Image Count: null
Allow Raster Function: true
Allow Copy: true
Allow Analysis: true
Allow Compute TiePoints: false
Supports Statistics: false
Supports Advanced Queries: false
Use StandardizedQueries: true
Raster Type Infos:
Name: Raster Dataset
Description: Supports all ArcGIS Raster Datasets
Help:
Has Raster Attribute Table: false
Edit Fields Info: null
Ownership Based AccessControl For Rasters: null
Child Resources:
Info
Histograms
Statistics
Key Properties
Legend
Raster Function Infos
Supported Operations:
Export Image
Identify
Measure
Compute Histograms
Compute Statistics Histograms
Get Samples
Compute Class Statistics
Query Boundary
Compute Pixel Location
Compute Angles
Validate
Project