View In:
ArcGIS JavaScript
ArcGIS Online Map Viewer
ArcGIS Earth
Service Description: NASASERVIR/LST_max_2021_all
Name: NASASERVIR/LST_max_2021_all
Description:
Single Fused Map Cache: false
Extent:
XMin: -76.21666666666667
YMin: -13.310414364576607
XMax: -64.3375
YMax: -3.9369327121310462
Spatial Reference: 4326
(4326)
LatestVCSWkid(0)
Initial Extent:
XMin: -76.21666666666667
YMin: -13.310414364576607
XMax: -64.3375
YMax: -3.9369327121310462
Spatial Reference: 4326
(4326)
LatestVCSWkid(0)
Full Extent:
XMin: -76.21666666666667
YMin: -13.310414364576607
XMax: -64.3375
YMax: -3.9369327121310462
Spatial Reference: 4326
(4326)
LatestVCSWkid(0)
Pixel Size X: 0.008978961955152428
Pixel Size Y: 0.008978430701576208
Band Count: 1
Pixel Type: F64
RasterFunction Infos: {"rasterFunctionInfos": [{
"name": "None",
"description": "",
"help": ""
}]}
Mensuration Capabilities: Basic
Inspection Capabilities:
Has Histograms: true
Has Colormap: false
Has Multi Dimensions : false
Rendering Rule:
Min Scale: 0
Max Scale: 0
Copyright Text:
Service Data Type: esriImageServiceDataTypeGeneric
Min Values: 9.775000000000034
Max Values: 79.85000000000002
Mean Values: 31.555839592087835
Standard Deviation Values: 2.4339267918194816
Object ID Field:
Fields:
None
Default Mosaic Method: Center
Allowed Mosaic Methods:
SortField:
SortValue: null
Mosaic Operator: First
Default Compression Quality: 75
Default Resampling Method: Bilinear
Max Record Count: null
Max Image Height: 4100
Max Image Width: 15000
Max Download Image Count: null
Max Mosaic Image Count: null
Allow Raster Function: true
Allow Copy: true
Allow Analysis: true
Allow Compute TiePoints: false
Supports Statistics: false
Supports Advanced Queries: false
Use StandardizedQueries: true
Raster Type Infos:
Name: Raster Dataset
Description: Supports all ArcGIS Raster Datasets
Help:
Has Raster Attribute Table: false
Edit Fields Info: null
Ownership Based AccessControl For Rasters: null
Child Resources:
Info
Histograms
Statistics
Key Properties
Legend
Raster Function Infos
Supported Operations:
Export Image
Identify
Measure
Compute Histograms
Compute Statistics Histograms
Get Samples
Compute Class Statistics
Query Boundary
Compute Pixel Location
Compute Angles
Validate
Project