View In:
ArcGIS JavaScript
ArcGIS Online Map Viewer
ArcGIS Earth
Service Description: Heatwatch21/rich_pm_t_fclip
Name: Heatwatch21/rich_pm_t_fclip
Description:
Single Fused Map Cache: false
Extent:
XMin: 266860.0
YMin: 4144170.0
XMax: 298400.0
YMax: 4176230.0
Spatial Reference: 32618
(32618)
LatestVCSWkid(0)
Initial Extent:
XMin: 266860.0
YMin: 4144170.0
XMax: 298400.0
YMax: 4176230.0
Spatial Reference: 32618
(32618)
LatestVCSWkid(0)
Full Extent:
XMin: 266860.0
YMin: 4144170.0
XMax: 298400.0
YMax: 4176230.0
Spatial Reference: 32618
(32618)
LatestVCSWkid(0)
Pixel Size X: 10.0
Pixel Size Y: 10.0
Band Count: 1
Pixel Type: F32
RasterFunction Infos: {"rasterFunctionInfos": [{
"name": "None",
"description": "",
"help": ""
}]}
Mensuration Capabilities: Basic
Inspection Capabilities:
Has Histograms: true
Has Colormap: false
Has Multi Dimensions : false
Rendering Rule:
Min Scale: 0
Max Scale: 0
Copyright Text:
Service Data Type: esriImageServiceDataTypeGeneric
Min Values: 83.97772216796875
Max Values: 92.34312438964844
Mean Values: 87.70386741973523
Standard Deviation Values: 1.4146060478335474
Object ID Field:
Fields:
None
Default Mosaic Method: Center
Allowed Mosaic Methods:
SortField:
SortValue: null
Mosaic Operator: First
Default Compression Quality: 75
Default Resampling Method: Bilinear
Max Record Count: null
Max Image Height: 4100
Max Image Width: 15000
Max Download Image Count: null
Max Mosaic Image Count: null
Allow Raster Function: true
Allow Copy: true
Allow Analysis: true
Allow Compute TiePoints: false
Supports Statistics: false
Supports Advanced Queries: false
Use StandardizedQueries: true
Raster Type Infos:
Name: Raster Dataset
Description: Supports all ArcGIS Raster Datasets
Help:
Has Raster Attribute Table: false
Edit Fields Info: null
Ownership Based AccessControl For Rasters: null
Child Resources:
Info
Histograms
Statistics
Key Properties
Legend
Raster Function Infos
Supported Operations:
Export Image
Identify
Measure
Compute Histograms
Compute Statistics Histograms
Get Samples
Compute Class Statistics
Query Boundary
Compute Pixel Location
Compute Angles
Validate
Project