View In:
ArcGIS JavaScript
ArcGIS Online Map Viewer
ArcGIS Earth
Service Description: Heatwatch21/ab_af_t_f_tif
Name: Heatwatch21/ab_af_t_f_tif
Description:
Single Fused Map Cache: false
Extent:
XMin: 406310.0
YMin: 4057800.0
XMax: 420520.0
YMax: 4068180.0
Spatial Reference: 32617
(32617)
LatestVCSWkid(0)
Initial Extent:
XMin: 406310.0
YMin: 4057800.0
XMax: 420520.0
YMax: 4068180.0
Spatial Reference: 32617
(32617)
LatestVCSWkid(0)
Full Extent:
XMin: 406310.0
YMin: 4057800.0
XMax: 420520.0
YMax: 4068180.0
Spatial Reference: 32617
(32617)
LatestVCSWkid(0)
Pixel Size X: 10.0
Pixel Size Y: 10.0
Band Count: 1
Pixel Type: F32
RasterFunction Infos: {"rasterFunctionInfos": [{
"name": "None",
"description": "",
"help": ""
}]}
Mensuration Capabilities: Basic
Inspection Capabilities:
Has Histograms: false
Has Colormap: false
Has Multi Dimensions : false
Rendering Rule:
Min Scale: 0
Max Scale: 0
Copyright Text:
Service Data Type: esriImageServiceDataTypeGeneric
Min Values: 80.05451965332
Max Values: 89.731605529785
Mean Values: 84.38272208289
Standard Deviation Values: 1.0755781361817
Object ID Field:
Fields:
None
Default Mosaic Method: Center
Allowed Mosaic Methods:
SortField:
SortValue: null
Mosaic Operator: First
Default Compression Quality: 75
Default Resampling Method: Bilinear
Max Record Count: null
Max Image Height: 4100
Max Image Width: 15000
Max Download Image Count: null
Max Mosaic Image Count: null
Allow Raster Function: true
Allow Copy: true
Allow Analysis: true
Allow Compute TiePoints: false
Supports Statistics: false
Supports Advanced Queries: false
Use StandardizedQueries: true
Raster Type Infos:
Name: Raster Dataset
Description: Supports all ArcGIS Raster Datasets
Help:
Has Raster Attribute Table: false
Edit Fields Info: null
Ownership Based AccessControl For Rasters: null
Child Resources:
Info
Statistics
Key Properties
Legend
Raster Function Infos
Supported Operations:
Export Image
Identify
Measure
Compute Histograms
Compute Statistics Histograms
Get Samples
Compute Class Statistics
Query Boundary
Compute Pixel Location
Compute Angles
Validate
Project