View In:
ArcGIS JavaScript
ArcGIS Online Map Viewer
ArcGIS Earth
Service Description: BandyField/BandyField_Feb2020
Name: BandyField/BandyField_Feb2020
Description:
Single Fused Map Cache: false
Extent:
XMin: 276116.51197000034
YMin: 4162633.10258
XMax: 276284.26333000034
YMax: 4162802.29834
Spatial Reference: 32618
(32618)
LatestVCSWkid(0)
Initial Extent:
XMin: 276116.51197000034
YMin: 4162633.10258
XMax: 276284.26333000034
YMax: 4162802.29834
Spatial Reference: 32618
(32618)
LatestVCSWkid(0)
Full Extent:
XMin: 276116.51197000034
YMin: 4162633.10258
XMax: 276284.26333000034
YMax: 4162802.29834
Spatial Reference: 32618
(32618)
LatestVCSWkid(0)
Pixel Size X: 0.012559999999999606
Pixel Size Y: 0.012560000000002333
Band Count: 4
Pixel Type: U8
RasterFunction Infos: {"rasterFunctionInfos": [{
"name": "None",
"description": "",
"help": ""
}]}
Mensuration Capabilities: Basic
Inspection Capabilities:
Has Histograms: true
Has Colormap: false
Has Multi Dimensions : false
Rendering Rule:
Min Scale: 0
Max Scale: 0
Copyright Text:
Service Data Type: esriImageServiceDataTypeGeneric
Min Values: 0, 0, 0, 0
Max Values: 255, 255, 255, 255
Mean Values: 142.81135372218668, 144.98064900811937, 139.41335512507302, 254.58604351147156
Standard Deviation Values: 32.92273806460981, 29.221035700540916, 32.853011461200644, 10.265843635872548
Object ID Field:
Fields:
None
Default Mosaic Method: Center
Allowed Mosaic Methods:
SortField:
SortValue: null
Mosaic Operator: First
Default Compression Quality: 75
Default Resampling Method: Bilinear
Max Record Count: null
Max Image Height: 4100
Max Image Width: 15000
Max Download Image Count: null
Max Mosaic Image Count: null
Allow Raster Function: true
Allow Copy: true
Allow Analysis: true
Allow Compute TiePoints: false
Supports Statistics: false
Supports Advanced Queries: false
Use StandardizedQueries: true
Raster Type Infos:
Name: Raster Dataset
Description: Supports all ArcGIS Raster Datasets
Help:
Has Raster Attribute Table: false
Edit Fields Info: null
Ownership Based AccessControl For Rasters: null
Child Resources:
Info
Histograms
Statistics
Key Properties
Legend
Raster Function Infos
Supported Operations:
Export Image
Identify
Measure
Compute Histograms
Compute Statistics Histograms
Get Samples
Compute Class Statistics
Query Boundary
Compute Pixel Location
Compute Angles
Validate
Project