View In:
ArcGIS JavaScript
ArcGIS Online Map Viewer
ArcGIS Earth
Service Description: ABSAT_NASASERVIR/MTDD_Classified03_2020_tif
Name: ABSAT_NASASERVIR/MTDD_Classified03_2020_tif
Description:
Single Fused Map Cache: false
Extent:
XMin: -76.21684162889352
YMin: -13.310607059384203
XMax: -64.33752031169695
YMax: -3.936776901125395
Spatial Reference: 4326
(4326)
LatestVCSWkid(0)
Initial Extent:
XMin: -76.21684162889352
YMin: -13.310607059384203
XMax: -64.33752031169695
YMax: -3.936776901125395
Spatial Reference: 4326
(4326)
LatestVCSWkid(0)
Full Extent:
XMin: -76.21684162889352
YMin: -13.310607059384203
XMax: -64.33752031169695
YMax: -3.936776901125395
Spatial Reference: 4326
(4326)
LatestVCSWkid(0)
Pixel Size X: 2.6949458523585685E-4
Pixel Size Y: 2.6949458523585685E-4
Band Count: 1
Pixel Type: U4
RasterFunction Infos: {"rasterFunctionInfos": [{
"name": "None",
"description": "",
"help": ""
}]}
Mensuration Capabilities: Basic
Inspection Capabilities:
Has Histograms: false
Has Colormap: false
Has Multi Dimensions : false
Rendering Rule:
Min Scale: 0
Max Scale: 0
Copyright Text:
Service Data Type: esriImageServiceDataTypeGeneric
Min Values: 0
Max Values: 3
Mean Values: 1.1287439021905
Standard Deviation Values: 0.50514837029954
Object ID Field:
Fields:
None
Default Mosaic Method: Center
Allowed Mosaic Methods:
SortField:
SortValue: null
Mosaic Operator: First
Default Compression Quality: 75
Default Resampling Method: Bilinear
Max Record Count: null
Max Image Height: 4100
Max Image Width: 15000
Max Download Image Count: null
Max Mosaic Image Count: null
Allow Raster Function: true
Allow Copy: true
Allow Analysis: true
Allow Compute TiePoints: false
Supports Statistics: false
Supports Advanced Queries: false
Use StandardizedQueries: true
Raster Type Infos:
Name: Raster Dataset
Description: Supports all ArcGIS Raster Datasets
Help:
Has Raster Attribute Table: false
Edit Fields Info: null
Ownership Based AccessControl For Rasters: null
Child Resources:
Info
Statistics
Key Properties
Legend
Raster Function Infos
Supported Operations:
Export Image
Identify
Measure
Compute Histograms
Compute Statistics Histograms
Get Samples
Compute Class Statistics
Query Boundary
Compute Pixel Location
Compute Angles
Validate
Project