<?xml version="1.0" encoding="UTF-8" standalone="no"?>
<metadata>
<idinfo>
<citation>
<citeinfo>
<origin>Jennifer Ellsworth, Worldview Solutions, Inc., GISP</origin>
<pubdate>20151130</pubdate>
<title>N16_06.tif</title>
<geoform>raster digital data</geoform>
</citeinfo>
</citation>
<descript>
<abstract>The Virginia Geographic Information Network (VGIN) and its partners have coordinated the development of a statewide Land Cover Dataset, improving land coverage data to assist localities in planning and implementing stormwater management programs. The Land Cover product leverages the Commonwealth's investment in the VBMP digital orthophotography and is focused on creating a consistent, statewide 1 meter digital land classification. Land Cover data extraction is being publicly provided back to local governments and state agencies in both raster and vector data formats.The Land Cover data is created based on the following revised Anderson classifications:11. Open Water - Includes drainage network and basins such as rivers, streams, lakes, canals, waterways, reservoirs, ponds, bays, estuaries, and ocean as defined by the NHD.21. Impervious - Includes areas characterized by a high percentage of constructed materials such as asphalt and concrete, buildings and parking lots, and infrastructure as defined by the EPA.31. Barren - Includes areas with little or no vegetation characterized by bedrock, desert pavement, beach and other sand/rock/clay accumulations, as well as areas of extractive mining activities with significant surface expression as defined by the EPA.41. Forest - Includes areas characterized by tree cover of natural or semi-natural woody vegetation as defined by the EPA, encompassing an acre in size; this class includes deciduous, evergreen, and mixed foliage types.42. Tree - Includes areas characterized by tree cover of natural or semi-natural woody vegetation as defined by the EPA, that does not encompass atleast an acre in size; this class includes deciduous, evergreen, and mixed foliage types.51. Scrub/Shrub - Includes areas characterized by natural or semi-natural woody vegetation with aerial stems generally less than 6 meters tall; features classified here will include those that would otherwise be determined Harvested/Disturbed but appear to show unmanaged stunted growth, or managed as easements.61. Harvested/Disturbed - Includes areas of forest clear-cut, temporary clearing of vegetation, and other dynamically changing land cover due to land use activities as defined by the EPA; these features should be categorized only where there is 30% canopy cover or less.71. TurfGrass - Primarily grasses; including vegetation planted in developed settings for erosion control or aesthetic purposes, as well as natural herbaceous vegetation and undeveloped land, including upland grasses and forbs, as defined by the EPA.81. Pasture - Includes areas of grasses, legumes, or grass-legume mixtures planted for livestock grazing or the production of seed or hay crops as defined by the EPA.82. Cropland - Includes areas characterized by herbaceous vegetation that has been planted or is intensively managed for the production of food, feed, or fiber, or is maintained in developed settings for specific purposes as defined by the EPA.91. NWI/Other - Includes all areas where forest, shrubland vegetation, or perennial vegetation accounts for 25% to 100% of the cover and the soil or substrate is periodically saturated with or covered with water, as provided by the TMI &amp; NWI; this class has an additional attributed subclass to correspond with the extracted software output had external wetland data not been incorporated.The data provided here is a compilation of feature extraction utilizing Textron Systems Feature Analyst software, a third party extension to ESRI’s ArcGIS Desktop software, and a variety of state and locally managed geospatial datasets. Locality datasets include Parcels, building footprints, edge of pavement and additional impervious layers, and hydrography. State and federal data includes hydro features from NHD, wetland features from TMI and NWI and VBMP RCL centerline data. Additional datasets were acquired from state agencies to improve upon the QA of certain classifications. For updated digital Tidal Marsh Inventory data, please visit http://ccrm.vims.edu/gis_data_maps/static_maps/gis/tmi_updated.html</abstract>
<purpose>1 meter Land Cover Dataset based on an 12 classification scheme. This statewide dataset is divided into tiled imagery from the Virginia Base Mapping Program (VBMP) orthophotography from the year of 2015.</purpose>
</descript>
<timeperd>
<timeinfo>
<sngdate>
<caldate>20151123</caldate>
</sngdate>
</timeinfo>
<current>Land Cover based on VBMP imagery from 2015</current>
</timeperd>
<status>
<progress>In work</progress>
<update>None planned</update>
</status>
<spdom>
<bounding>
<westbc>-80.055221</westbc>
<eastbc>-79.827081</eastbc>
<northbc>38.038918</northbc>
<southbc>37.900084</southbc>
</bounding>
</spdom>
<keywords>
<theme>
<themekt>ISO 19115 Topic Categories</themekt>
<themekey>environment</themekey>
<themekey>planningCadastre</themekey>
<themekey>imageryBaseMapsEarthCover</themekey>
</theme>
<theme>
<themekt>None</themekt>
<themekey>spatial data</themekey>
<themekey>planning</themekey>
<themekey>imagery extraction</themekey>
<themekey>Land Cover</themekey>
</theme>
<place>
<placekt>None</placekt>
<placekey>Virginia</placekey>
<placekey>United States</placekey>
</place>
<temporal>
<tempkt>None</tempkt>
<tempkey>2015</tempkey>
</temporal>
</keywords>
<accconst>None</accconst>
<useconst>The re-distribution of this dataset for profit is prohibited. Differentiation in mapping methodology, output resolution, and sources of input data for the VBMP 4-band orthophotography product will confound any direct comparison between it and the USGS National Land Cover Dataset. Users are cautioned that direct comparison of these two independently created land cover products is not recommended.Any determination of topography or contours, or any depiction of physical improvements, property lines or boundaries is for general information only and shall not be used for the design, modification, or construction of improvements to real property or for flood plain determination.</useconst>
<ptcontac>
<cntinfo>
<cntorgp>
<cntorg>Worldview Solutions, Inc.</cntorg>
<cntper>Jennifer Ellsworth</cntper>
</cntorgp>
<cntpos>Project Manager</cntpos>
<cntaddr>
<addrtype>mailing and physical</addrtype>
<city>Richmond</city>
<state>VA</state>
<postal>23219</postal>
<country>US</country>
</cntaddr>
<cntvoice>8047671871</cntvoice>
<cntemail>jennifer.ellsworth@worldviewsolutions.com</cntemail>
</cntinfo>
</ptcontac>
<ptcontac>
<cntinfo>
<cntorgp>
<cntorg>Virginia Geographic Information Network</cntorg>
<cntper>Dan Widner</cntper>
</cntorgp>
<cntpos>Coordinator</cntpos>
<cntaddr>
<addrtype>mailing and physical</addrtype>
<city>Chester</city>
<state>VA</state>
<postal>23836</postal>
</cntaddr>
<cntvoice>2024616911</cntvoice>
<cntemail>dan.widner@vita.virginia.gov</cntemail>
</cntinfo>
</ptcontac>
<datacred>Virginia Geographic Information Network (VGIN) Department of Conservation &amp; Recreation (DCR) Department of Environmental Quality (DEQ) Virginia Department of Forestry (VDOF) Tidal Marsh Inventory (TMI) National Hydrography Dataset (NHD) National Wetlands Inventory (NWI) Virginia Economic Development Partnership (VEDP) Virginia Department of Mines, Minerals, and Energy (DMME) Worldview Solutions, Inc.</datacred>
<native>Version 6.2 (Build 9200) ; Esri ArcGIS 10.3.1.4959</native>
</idinfo>
<spdoinfo>
<rastinfo>
<rasttype>Grid Cell</rasttype>
<rowcount>15101</rowcount>
<colcount>19812</colcount>
<rastxsz Sync="TRUE">3.280598</rastxsz>
<rastysz Sync="TRUE">3.280647</rastysz>
<rastbpp Sync="TRUE">8</rastbpp>
<vrtcount Sync="TRUE">1</vrtcount>
<rastorig Sync="TRUE">Upper Left</rastorig>
<rastcmap Sync="TRUE">TRUE</rastcmap>
<rastcomp Sync="TRUE">LZ77</rastcomp>
<rastband Sync="TRUE">1</rastband>
<rastdtyp Sync="TRUE">pixel codes</rastdtyp>
<rastifor Sync="TRUE">FGDBR</rastifor>
<rastplyr Sync="TRUE">TRUE</rastplyr>
</rastinfo>
</spdoinfo>
<eainfo>
<detailed Name="VAT_S03_44_Clip2">
<enttyp>
<enttypl>N16_06.tif.vat</enttypl>
<enttypd>File geodatabase</enttypd>
<enttypds>ESRI</enttypds>
<enttypt Sync="TRUE">Table</enttypt>
<enttypc Sync="TRUE">10</enttypc>
</enttyp>
<attr>
<attrlabl Sync="TRUE">OBJECTID</attrlabl>
<attalias Sync="TRUE">OBJECTID</attalias>
<attrtype Sync="TRUE">OID</attrtype>
<attwidth Sync="TRUE">4</attwidth>
<atprecis Sync="TRUE">0</atprecis>
<attscale Sync="TRUE">0</attscale>
<attrdef Sync="TRUE">Internal feature number.</attrdef>
<attrdefs Sync="TRUE">Esri</attrdefs>
<attrdomv>
<udom Sync="TRUE">Sequential unique whole numbers that are automatically generated.</udom>
</attrdomv>
</attr>
<attr>
<attrlabl>Count</attrlabl>
<attrdef>Number of cells pertaining to that classification within the tile</attrdef>
<attrdefs>WorldView Solutions, Inc.</attrdefs>
<attalias Sync="TRUE">Count</attalias>
<attrtype Sync="TRUE">Double</attrtype>
<attwidth Sync="TRUE">8</attwidth>
<atprecis Sync="TRUE">0</atprecis>
<attscale Sync="TRUE">0</attscale>
</attr>
<attr>
<attrlabl>Value</attrlabl>
<attrdef>Land Cover Classification scheme</attrdef>
<attrdefs>WorldView Solutions, Inc.</attrdefs>
<attrdomv>
<edom>
<edomv>71</edomv>
<edomvd>TurfGrass</edomvd>
<edomvds>WorldView Solutions, Inc.</edomvds>
</edom>
<edom>
<edomv>91</edomv>
<edomvd>NWI/Other</edomvd>
<edomvds>WorldView Solutions, Inc.</edomvds>
</edom>
<edom>
<edomv>82</edomv>
<edomvd>Cropland</edomvd>
<edomvds>WorldView Solutions, Inc.</edomvds>
</edom>
<edom>
<edomv>31</edomv>
<edomvd>Barren</edomvd>
<edomvds>WorldView Solutions, Inc.</edomvds>
</edom>
<edom>
<edomv>11</edomv>
<edomvd>Hydro</edomvd>
<edomvds>WorldView Solutions, Inc.</edomvds>
</edom>
<edom>
<edomv>22</edomv>
<edomvd>Impervious locality datasets</edomvd>
<edomvds>WorldView Solutions, Inc.</edomvds>
</edom>
<edom>
<edomv>21</edomv>
<edomvd>Impervious extracted features</edomvd>
<edomvds>WorldView Solutions, Inc.</edomvds>
</edom>
<edom>
<edomv>41</edomv>
<edomvd>Forest</edomvd>
<edomvds>WorldView Solutions, Inc.</edomvds>
</edom>
<edom>
<edomv>61</edomv>
<edomvd>Harvested/Disturbed</edomvd>
<edomvds>WorldView Solutions, Inc.</edomvds>
</edom>
<edom>
<edomv>81</edomv>
<edomvd>Pasture</edomvd>
<edomvds>WorldView Solutions, Inc.</edomvds>
</edom>
<edom>
<edomv>51</edomv>
<edomvd>Shrub/Scrub</edomvd>
<edomvds>WorldView Solutions, Inc.</edomvds>
</edom>
<edom>
<edomv>42</edomv>
<edomvd>Tree</edomvd>
<edomvds>WorldView Solutions, Inc.</edomvds>
</edom>
</attrdomv>
<attalias Sync="TRUE">Value</attalias>
<attrtype Sync="TRUE">Integer</attrtype>
<attwidth Sync="TRUE">4</attwidth>
<atprecis Sync="TRUE">0</atprecis>
<attscale Sync="TRUE">0</attscale>
</attr>
</detailed>
</eainfo>
<metainfo>
<metd>20160329</metd>
<metc>
<cntinfo>
<cntorgp>
<cntorg>Worldview Solutions, Inc.</cntorg>
<cntper>Jennifer Ellsworth</cntper>
</cntorgp>
<cntpos>Project Manager</cntpos>
<cntaddr>
<addrtype>mailing and physical</addrtype>
<city>Richmond</city>
<state>VA</state>
<postal>23219</postal>
<country>US</country>
</cntaddr>
<cntvoice>8047671871</cntvoice>
<cntemail>jennifer.ellsworth@worldviewsolutions.com</cntemail>
</cntinfo>
</metc>
<metstdn>FGDC Content Standard for Digital Geospatial Metadata</metstdn>
<metstdv>FGDC-STD-001-1998</metstdv>
<mettc>local time</mettc>
</metainfo>
<dataIdInfo>
<envirDesc Sync="TRUE">Microsoft Windows 10 Version 10.0 (Build 19045) ; Esri ArcGIS 13.2.0.49743</envirDesc>
<dataLang>
<languageCode Sync="TRUE" value="eng"/>
<countryCode Sync="TRUE" value="USA"/>
</dataLang>
<idCitation>
<resTitle Sync="TRUE">Abingdon_lc</resTitle>
<presForm>
<PresFormCd Sync="TRUE" value="011"/>
</presForm>
</idCitation>
<spatRpType>
<SpatRepTypCd Sync="TRUE" value="002"/>
</spatRpType>
<dataExt>
<geoEle>
<GeoBndBox esriExtentType="search">
<exTypeCode Sync="TRUE">1</exTypeCode>
<westBL Sync="TRUE">-82.012115</westBL>
<eastBL Sync="TRUE">-81.908158</eastBL>
<northBL Sync="TRUE">36.735560</northBL>
<southBL Sync="TRUE">36.687313</southBL>
</GeoBndBox>
</geoEle>
</dataExt>
<idAbs/>
<idPurp/>
<idCredit/>
<resConst>
<Consts>
<useLimit/>
</Consts>
</resConst>
</dataIdInfo>
<mdLang>
<languageCode Sync="TRUE" value="eng"/>
<countryCode Sync="TRUE" value="USA"/>
</mdLang>
<Esri>
<DataProperties>
<itemProps>
<itemName Sync="TRUE">S03_44_Clip2</itemName>
<itemLocation>
<linkage Sync="TRUE">file://\\S1-GEO-BZIZZAMI\C$\Users\bzizzami\Documents\ArcGIS\Projects\HeatWatchPaper\HeatWatchPaper.gdb</linkage>
<protocol Sync="TRUE">Local Area Network</protocol>
</itemLocation>
<imsContentType Sync="TRUE">002</imsContentType>
<nativeExtBox>
<westBL Sync="TRUE">10453915.013667</westBL>
<eastBL Sync="TRUE">10483804.539865</eastBL>
<southBL Sync="TRUE">3428845.778247</southBL>
<northBL Sync="TRUE">3445327.747638</northBL>
<exTypeCode Sync="TRUE">1</exTypeCode>
</nativeExtBox>
</itemProps>
<coordRef>
<type Sync="TRUE">Projected</type>
<geogcsn Sync="TRUE">GCS_North_American_1983_HARN</geogcsn>
<csUnits Sync="TRUE">Linear Unit: Foot_US (0.304801)</csUnits>
<projcsn Sync="TRUE">NAD_1983_HARN_StatePlane_Virginia_South_FIPS_4502_Feet</projcsn>
<peXml Sync="TRUE">&lt;ProjectedCoordinateSystem xsi:type='typens:ProjectedCoordinateSystem' xmlns:xsi='http://www.w3.org/2001/XMLSchema-instance' xmlns:xs='http://www.w3.org/2001/XMLSchema' xmlns:typens='http://www.esri.com/schemas/ArcGIS/3.2.0'&gt;&lt;WKT&gt;PROJCS[&amp;quot;NAD_1983_HARN_StatePlane_Virginia_South_FIPS_4502_Feet&amp;quot;,GEOGCS[&amp;quot;GCS_North_American_1983_HARN&amp;quot;,DATUM[&amp;quot;D_North_American_1983_HARN&amp;quot;,SPHEROID[&amp;quot;GRS_1980&amp;quot;,6378137.0,298.257222101]],PRIMEM[&amp;quot;Greenwich&amp;quot;,0.0],UNIT[&amp;quot;Degree&amp;quot;,0.0174532925199433]],PROJECTION[&amp;quot;Lambert_Conformal_Conic&amp;quot;],PARAMETER[&amp;quot;False_Easting&amp;quot;,11482916.66666666],PARAMETER[&amp;quot;False_Northing&amp;quot;,3280833.333333333],PARAMETER[&amp;quot;Central_Meridian&amp;quot;,-78.5],PARAMETER[&amp;quot;Standard_Parallel_1&amp;quot;,36.76666666666667],PARAMETER[&amp;quot;Standard_Parallel_2&amp;quot;,37.96666666666667],PARAMETER[&amp;quot;Latitude_Of_Origin&amp;quot;,36.33333333333334],UNIT[&amp;quot;Foot_US&amp;quot;,0.3048006096012192],AUTHORITY[&amp;quot;EPSG&amp;quot;,2925]]&lt;/WKT&gt;&lt;XOrigin&gt;-111140600&lt;/XOrigin&gt;&lt;YOrigin&gt;-91532100&lt;/YOrigin&gt;&lt;XYScale&gt;36727036.750856541&lt;/XYScale&gt;&lt;ZOrigin&gt;-100000&lt;/ZOrigin&gt;&lt;ZScale&gt;10000&lt;/ZScale&gt;&lt;MOrigin&gt;-100000&lt;/MOrigin&gt;&lt;MScale&gt;10000&lt;/MScale&gt;&lt;XYTolerance&gt;0.0032808333333333331&lt;/XYTolerance&gt;&lt;ZTolerance&gt;0.001&lt;/ZTolerance&gt;&lt;MTolerance&gt;0.001&lt;/MTolerance&gt;&lt;HighPrecision&gt;true&lt;/HighPrecision&gt;&lt;WKID&gt;2925&lt;/WKID&gt;&lt;LatestWKID&gt;2925&lt;/LatestWKID&gt;&lt;/ProjectedCoordinateSystem&gt;</peXml>
</coordRef>
<RasterProperties>
<General>
<PixelDepth Sync="TRUE">8</PixelDepth>
<HasColormap Sync="TRUE">TRUE</HasColormap>
<CompressionType Sync="TRUE">LZW</CompressionType>
<NumBands Sync="TRUE">1</NumBands>
<Format Sync="TRUE">TIFF</Format>
<HasPyramids Sync="TRUE">TRUE</HasPyramids>
<SourceType Sync="TRUE">discrete</SourceType>
<PixelType Sync="TRUE">unsigned integer</PixelType>
<NoDataValue Sync="TRUE">255</NoDataValue>
</General>
</RasterProperties>
<lineage>
<Process Date="20240226" Time="151302" ToolSource="c:\program files\arcgis\pro\Resources\ArcToolbox\toolboxes\Data Management Tools.tbx\Clip">Clip S03_44.tif "10453915.0136665 3428845.77824692 10483804.539865 3445327.74763804" C:\Users\bzizzami\Documents\ArcGIS\Projects\HeatWatchPaper\HeatWatchPaper.gdb\S03_44_Clip2 AbingdonPrjArea 255 ClippingGeometry MAINTAIN_EXTENT</Process>
</lineage>
</DataProperties>
<SyncDate>20240226</SyncDate>
<SyncTime>15130200</SyncTime>
<ModDate>20240226</ModDate>
<ModTime>15130200</ModTime>
</Esri>
<distInfo>
<distFormat>
<formatName Sync="TRUE">File Geodatabase Raster Dataset</formatName>
</distFormat>
</distInfo>
<mdHrLv>
<ScopeCd Sync="TRUE" value="005"/>
</mdHrLv>
<mdHrLvName Sync="TRUE">dataset</mdHrLvName>
<refSysInfo>
<RefSystem>
<refSysID>
<identCode Sync="TRUE" code="2925"/>
<idCodeSpace Sync="TRUE">EPSG</idCodeSpace>
<idVersion Sync="TRUE">6.3(9.0.0)</idVersion>
</refSysID>
</RefSystem>
</refSysInfo>
<spatRepInfo>
<Georect>
<cellGeo>
<CellGeoCd Sync="TRUE" value="002"/>
</cellGeo>
<numDims Sync="TRUE">2</numDims>
<tranParaAv Sync="TRUE">1</tranParaAv>
<chkPtAv Sync="TRUE">0</chkPtAv>
<cornerPts>
<pos Sync="TRUE">10400000.000007 3399999.965801</pos>
</cornerPts>
<cornerPts>
<pos Sync="TRUE">10400000.000007 3454999.967561</pos>
</cornerPts>
<cornerPts>
<pos Sync="TRUE">10500000.003207 3454999.967561</pos>
</cornerPts>
<cornerPts>
<pos Sync="TRUE">10500000.003207 3399999.965801</pos>
</cornerPts>
<centerPt>
<pos Sync="TRUE">10450000.001607 3427499.966681</pos>
</centerPt>
<axisDimension type="002">
<dimSize Sync="TRUE">30480</dimSize>
<dimResol>
<value Sync="TRUE" uom="Foot_US">3.280840</value>
</dimResol>
</axisDimension>
<axisDimension type="001">
<dimSize Sync="TRUE">16764</dimSize>
<dimResol>
<value Sync="TRUE" uom="Foot_US">3.280840</value>
</dimResol>
</axisDimension>
<ptInPixel>
<PixOrientCd Sync="TRUE" value="001"/>
</ptInPixel>
</Georect>
</spatRepInfo>
<contInfo>
<ImgDesc>
<contentTyp>
<ContentTypCd Sync="TRUE" value="002"/>
</contentTyp>
<covDim>
<Band>
<dimDescrp Sync="TRUE">Band_1</dimDescrp>
<maxVal Sync="TRUE">91.000000</maxVal>
<minVal Sync="TRUE">11.000000</minVal>
<bitsPerVal Sync="TRUE">8</bitsPerVal>
<valUnit>
<UOM type="length"/>
</valUnit>
</Band>
</covDim>
</ImgDesc>
</contInfo>
<mdDateSt Sync="TRUE">20240226</mdDateSt>
<spref>
<horizsys>
<planar>
<planci>
<plance Sync="TRUE">row and column</plance>
<coordrep>
<absres Sync="TRUE">3.280598</absres>
<ordres Sync="TRUE">3.280647</ordres>
</coordrep>
</planci>
</planar>
</horizsys>
</spref>
</metadata>
