{
 "currentVersion": 11.5,
 "serviceDescription": "Beth/StMary_dsm_tif",
 "name": "Beth/StMary_dsm_tif",
 "description": "",
 "extent": {
  "xmin": 283286.92185000004,
  "ymin": 4210868.40876,
  "xmax": 283370.02081,
  "ymax": 4210976.19534,
  "spatialReference": {
   "wkid": 32618,
   "latestWkid": 32618
  }
 },
 "initialExtent": {
  "xmin": 283286.92185000004,
  "ymin": 4210868.40876,
  "xmax": 283370.02081,
  "ymax": 4210976.19534,
  "spatialReference": {
   "wkid": 32618,
   "latestWkid": 32618
  }
 },
 "fullExtent": {
  "xmin": 283286.92185000004,
  "ymin": 4210868.40876,
  "xmax": 283370.02081,
  "ymax": 4210976.19534,
  "spatialReference": {
   "wkid": 32618,
   "latestWkid": 32618
  }
 },
 "sortableFields": "",
 "bandCount": 1,
 "pixelType": "F32",
 "minValues": [],
 "maxValues": [],
 "meanValues": [],
 "stdvValues": [],
 "serviceProperties": "Center<\/MosaicMethod>First<\/MosaicOperator>true<\/SortAscending><\/LockImageID><\/TileOrderField>0<\/TileOrderBase>0.000000<\/AvgImageSpacingX>0.000000<\/AvgImageSpacingY>0.0<\/ViewPointX>0.0<\/ViewPointY>0.0<\/ViewPointDefShiftX>0.0<\/ViewPointDefShiftY>None<\/CompressionMethod>75<\/CompressionQuality>0.010000<\/CompressionTolerance>Bilinear<\/SamplingMethod><\/ImageServiceProperties><\/ImageServer>",
 "allowedFields": "",
 "hasMultidimensions": false,
 "pixelSizeX": 0.008289999999997395,
 "pixelSizeY": 0.008290000000005593,
 "meanPixelSize": 0.008290000000001494,
 "datasetFormat": "TIFF",
 "uncompressedSize": 521328192,
 "blockWidth": 10024,
 "blockHeight": 1,
 "compressionType": "LZW",
 "bandNames": [
  "Band_1"
 ],
 "allowCopy": true,
 "allowAnalysis": true,
 "itemAccess": false,
 "inspectionCapabilities": "",
 "noDataValue": -10000,
 "noDataValues": [
  -10000
 ],
 "minPixelSize": 0,
 "maxPixelSize": 0,
 "copyrightText": "",
 "serviceDataType": "esriImageServiceDataTypeGeneric",
 "serviceSourceType": "esriImageServiceSourceTypeDataset",
 "objectIdField": "",
 "fields": [],
 "capabilities": "Image,Metadata,Mensuration",
 "defaultMosaicMethod": "Center",
 "allowedMosaicMethods": "",
 "sortField": "",
 "sortValue": null,
 "sortAscending": true,
 "mosaicOperator": "First",
 "defaultCompressionQuality": 75,
 "defaultResamplingMethod": "Bilinear",
 "maxImageHeight": 4100,
 "maxImageWidth": 15000,
 "allowRasterFunction": true,
 "rasterFunctionInfos": [
  {
   "name": "None",
   "description": "",
   "help": ""
  }
 ],
 "rasterTypeInfos": [
  {
   "name": "Raster Dataset",
   "description": "Supports all ArcGIS Raster Datasets",
   "help": ""
  }
 ],
 "mensurationCapabilities": "Basic",
 "hasHistograms": false,
 "hasColormap": false,
 "hasRasterAttributeTable": false,
 "minScale": 0,
 "maxScale": 0,
 "exportTilesAllowed": false,
 "supportsStatistics": false,
 "supportsAdvancedQueries": false,
 "editFieldsInfo": null,
 "ownershipBasedAccessControlForRasters": null,
 "allowComputeTiePoints": false,
 "useStandardizedQueries": true,
 "advancedQueryCapabilities": {
  "useStandardizedQueries": true,
  "supportsStatistics": false,
  "supportsOrderBy": false,
  "supportsDistinct": false,
  "supportsPagination": false
 },
 "spatialReference": {
  "wkid": 32618,
  "latestWkid": 32618
 }
}
